BEGIN:VCALENDAR
VERSION:2.0
PRODID:-//Ō Lac Spectacles - ECPv5.3.2//NONSGML v1.0//EN
CALSCALE:GREGORIAN
METHOD:PUBLISH
X-WR-CALNAME:Ō Lac Spectacles
X-ORIGINAL-URL:https://olac-spectacles.com
X-WR-CALDESC:évènements pour Ō Lac Spectacles
BEGIN:VTIMEZONE
TZID:Europe/Paris
BEGIN:DAYLIGHT
TZOFFSETFROM:+0100
TZOFFSETTO:+0200
TZNAME:CEST
DTSTART:20240331T010000
END:DAYLIGHT
BEGIN:STANDARD
TZOFFSETFROM:+0200
TZOFFSETTO:+0100
TZNAME:CET
DTSTART:20241027T010000
END:STANDARD
END:VTIMEZONE
BEGIN:VEVENT
DTSTART;TZID=Europe/Paris:20241012T200000
DTEND;TZID=Europe/Paris:20241012T220000
DTSTAMP:20260423T122358
CREATED:20230601T074807Z
LAST-MODIFIED:20240717T121851Z
UID:6337-1728763200-1728770400@olac-spectacles.com
SUMMARY:UN CHALET A GSTAAD
DESCRIPTION:UN CHALET A GSTAAD\n– THÉÂTRE –\n\n\n  \n\n\n \n  \n  \nLui est un industriel fils à papa\, Alicia est une aristocrate richissime et bête à manger du foin. Tout pourrait bien se passer\, on est entre gens du monde (même si ce n’est pas forcément le même) si Alicia ne s’était entichée d’un coach spirituel\, gourou sur les bords\, qui les accompagne au dîner.  \nEt forcément\, le vernis va finir par craquer\, surtout lorsque le gourou va leur annoncer le pire : leur fortune est menacée… et leur « pognon de dingue » pourrait bien partir en fumée. \n 
URL:https://olac-spectacles.com/spectacle/un-chalet-a-gstaad/
LOCATION:Ō Lac\, Lac d'Aiguille\, Quartier des Communaux\, Châteauneuf-sur-Isère\, 26300\, France
CATEGORIES:Danse,Événements,Feature Event,Théâtre
ATTACH;FMTTYPE=image/jpeg:https://olac-spectacles.com/wp-content/uploads/2024/07/affiche-plo-ucag-40x60-bd-scaled.jpg
END:VEVENT
END:VCALENDAR